BEGIN:VCALENDAR
VERSION:2.0
PRODID:-//First Baptist Church, Spencer, Ohio - ECPv6.15.17.1//NONSGML v1.0//EN
CALSCALE:GREGORIAN
METHOD:PUBLISH
X-WR-CALNAME:First Baptist Church, Spencer, Ohio
X-ORIGINAL-URL:https://www.fbcspencer.org
X-WR-CALDESC:Events for First Baptist Church, Spencer, Ohio
REFRESH-INTERVAL;VALUE=DURATION:PT1H
X-Robots-Tag:noindex
X-PUBLISHED-TTL:PT1H
BEGIN:VTIMEZONE
TZID:America/New_York
BEGIN:DAYLIGHT
TZOFFSETFROM:-0500
TZOFFSETTO:-0400
TZNAME:EDT
DTSTART:20250309T070000
END:DAYLIGHT
BEGIN:STANDARD
TZOFFSETFROM:-0400
TZOFFSETTO:-0500
TZNAME:EST
DTSTART:20251102T060000
END:STANDARD
BEGIN:DAYLIGHT
TZOFFSETFROM:-0500
TZOFFSETTO:-0400
TZNAME:EDT
DTSTART:20260308T070000
END:DAYLIGHT
BEGIN:STANDARD
TZOFFSETFROM:-0400
TZOFFSETTO:-0500
TZNAME:EST
DTSTART:20261101T060000
END:STANDARD
BEGIN:DAYLIGHT
TZOFFSETFROM:-0500
TZOFFSETTO:-0400
TZNAME:EDT
DTSTART:20270314T070000
END:DAYLIGHT
BEGIN:STANDARD
TZOFFSETFROM:-0400
TZOFFSETTO:-0500
TZNAME:EST
DTSTART:20271107T060000
END:STANDARD
END:VTIMEZONE
BEGIN:VEVENT
DTSTART;TZID=America/New_York:20260530T110000
DTEND;TZID=America/New_York:20260530T130000
DTSTAMP:20260421T061146
CREATED:20260415T121335Z
LAST-MODIFIED:20260415T121413Z
UID:2194-1780138800-1780146000@www.fbcspencer.org
SUMMARY:Ladies Luncheon "Sweeter than Honey"
DESCRIPTION:
URL:https://www.fbcspencer.org/event/2194/
LOCATION:First Baptist Church Spencer\, 302 West Main St\, Spencer\, OH\, 44275\, United States
END:VEVENT
BEGIN:VEVENT
DTSTART;TZID=America/New_York:20260706T093000
DTEND;TZID=America/New_York:20260710T123000
DTSTAMP:20260421T061146
CREATED:20260415T121709Z
LAST-MODIFIED:20260415T121709Z
UID:2198-1783330200-1783686600@www.fbcspencer.org
SUMMARY:Vacation Bible School
DESCRIPTION:
URL:https://www.fbcspencer.org/event/vacation-bible-school/
LOCATION:First Baptist Church Spencer\, 302 West Main St\, Spencer\, OH\, 44275\, United States
END:VEVENT
BEGIN:VEVENT
DTSTART;TZID=America/New_York:20260706T160000
DTEND;TZID=America/New_York:20260710T180000
DTSTAMP:20260421T061146
CREATED:20260415T121909Z
LAST-MODIFIED:20260415T121909Z
UID:2201-1783353600-1783706400@www.fbcspencer.org
SUMMARY:Teen VBS
DESCRIPTION:
URL:https://www.fbcspencer.org/event/teen-vbs/
END:VEVENT
END:VCALENDAR